BEGIN:VCALENDAR
VERSION:2.0
PRODID:-//Thrive and Awaken® - ECPv6.15.17.1//NONSGML v1.0//EN
CALSCALE:GREGORIAN
METHOD:PUBLISH
X-WR-CALNAME:Thrive and Awaken®
X-ORIGINAL-URL:https://thriveandawaken.com
X-WR-CALDESC:Events for Thrive and Awaken®
REFRESH-INTERVAL;VALUE=DURATION:PT1H
X-Robots-Tag:noindex
X-PUBLISHED-TTL:PT1H
BEGIN:VTIMEZONE
TZID:America/New_York
BEGIN:DAYLIGHT
TZOFFSETFROM:-0500
TZOFFSETTO:-0400
TZNAME:EDT
DTSTART:20240310T070000
END:DAYLIGHT
BEGIN:STANDARD
TZOFFSETFROM:-0400
TZOFFSETTO:-0500
TZNAME:EST
DTSTART:20241103T060000
END:STANDARD
BEGIN:DAYLIGHT
TZOFFSETFROM:-0500
TZOFFSETTO:-0400
TZNAME:EDT
DTSTART:20250309T070000
END:DAYLIGHT
BEGIN:STANDARD
TZOFFSETFROM:-0400
TZOFFSETTO:-0500
TZNAME:EST
DTSTART:20251102T060000
END:STANDARD
BEGIN:DAYLIGHT
TZOFFSETFROM:-0500
TZOFFSETTO:-0400
TZNAME:EDT
DTSTART:20260308T070000
END:DAYLIGHT
BEGIN:STANDARD
TZOFFSETFROM:-0400
TZOFFSETTO:-0500
TZNAME:EST
DTSTART:20261101T060000
END:STANDARD
END:VTIMEZONE
BEGIN:VEVENT
DTSTART;TZID=America/New_York:20251112T183000
DTEND;TZID=America/New_York:20251112T193000
DTSTAMP:20260423T063911
CREATED:20251010T211428Z
LAST-MODIFIED:20251020T150635Z
UID:10001484-1762972200-1762975800@thriveandawaken.com
SUMMARY:Conversations with Doug 11-12
DESCRIPTION:Join me in discussing any content from the site.
URL:https://thriveandawaken.com/event/conversations-with-doug-11-12/
LOCATION:https://us06web.zoom.us/j/83502856916
END:VEVENT
END:VCALENDAR